BEGIN:VCALENDAR
VERSION:2.0
PRODID:-//Kettle Moraine Ranch//Events//EN
BEGIN:VEVENT
UID:kmr-88781@kettlemoraineranch.com
DTSTAMP:20260422T082937
DTSTART:20260501T190000
DTEND:20260501T220000
SUMMARY:olive.you at the jackass Saloon
DESCRIPTION:
LOCATION:Kettle Moraine Ranch, Eagle, WI
END:VEVENT
END:VCALENDAR