BEGIN:VCALENDAR
VERSION:2.0
PRODID:-//Kettle Moraine Ranch//Events//EN
BEGIN:VEVENT
UID:kmr-277725@kettlemoraineranch.com
DTSTAMP:20260422T083412
DTSTART:20260522T190000
DTEND:20260522T220000
SUMMARY:Listening Party
DESCRIPTION:
LOCATION:Kettle Moraine Ranch, Eagle, WI
END:VEVENT
END:VCALENDAR