BEGIN:VCALENDAR
VERSION:2.0
PRODID:-//Kettle Moraine Ranch//Events//EN
BEGIN:VEVENT
UID:kmr-264656@kettlemoraineranch.com
DTSTAMP:20260421T163628
DTSTART:20260510T110000
DTEND:20260510T150000
SUMMARY:Mother's Day Extravaganza
DESCRIPTION:
LOCATION:Kettle Moraine Ranch, Eagle, WI
END:VEVENT
END:VCALENDAR